Package: GeneGA Version: 1.59.0 Command: /home/biocbuild/bbs-3.22-bioc/R/bin/R CMD build --keep-empty-dirs --no-resave-data --md5 GeneGA StartedAt: 2025-10-08 18:08:47 -0400 (Wed, 08 Oct 2025) EndedAt: 2025-10-08 18:09:55 -0400 (Wed, 08 Oct 2025) EllapsedTime: 68.1 seconds RetCode: 0 Status: OK PackageFile: GeneGA_1.59.0.tar.gz PackageFileSize: 228.9 KiB