Package: GeneExpressionSignature Version: 1.55.0 Command: rm -rf GeneExpressionSignature.buildbin-libdir && mkdir GeneExpressionSignature.buildbin-libdir && F:\biocbuild\bbs-3.22-bioc\R\bin\R.exe CMD INSTALL --build --library=GeneExpressionSignature.buildbin-libdir GeneExpressionSignature_1.55.0.tar.gz StartedAt: 2025-08-15 10:19:51 -0400 (Fri, 15 Aug 2025) EndedAt: 2025-08-15 10:22:31 -0400 (Fri, 15 Aug 2025) EllapsedTime: 159.9 seconds RetCode: 0 Status: OK PackageFile: GeneExpressionSignature_1.55.0.zip PackageFileSize: 2.53 MiB