Package: GateFinder Version: 1.29.0 Command: /Library/Frameworks/R.framework/Resources/bin/R CMD check --install=check:GateFinder.install-out.txt --library=/Library/Frameworks/R.framework/Resources/library --no-vignettes --timings GateFinder_1.29.0.tar.gz StartedAt: 2025-05-09 19:33:57 -0400 (Fri, 09 May 2025) EndedAt: 2025-05-09 19:34:29 -0400 (Fri, 09 May 2025) EllapsedTime: 31.4 seconds RetCode: 0 Status: WARNINGS CheckDir: GateFinder.Rcheck Warnings: 1