Package: GateFinder Version: 1.29.0 Command: /Library/Frameworks/R.framework/Resources/bin/R CMD build --keep-empty-dirs --no-resave-data GateFinder StartedAt: 2025-05-09 16:27:18 -0400 (Fri, 09 May 2025) EndedAt: 2025-05-09 16:27:28 -0400 (Fri, 09 May 2025) EllapsedTime: 10.1 seconds RetCode: 0 Status: OK PackageFile: GateFinder_1.29.0.tar.gz PackageFileSize: 582 KiB