Package: GWENA Version: 1.19.0 Command: /home/biocbuild/R/R/bin/R CMD build --keep-empty-dirs --no-resave-data GWENA StartedAt: 2025-09-30 00:31:55 -0000 (Tue, 30 Sep 2025) EndedAt: 2025-09-30 00:34:19 -0000 (Tue, 30 Sep 2025) EllapsedTime: 144.1 seconds RetCode: 0 Status: OK PackageFile: GWENA_1.19.0.tar.gz PackageFileSize: 4.94 MiB