Package: GWENA Version: 1.17.0 Command: /home/biocbuild/bbs-3.21-bioc/R/bin/R CMD build --keep-empty-dirs --no-resave-data GWENA StartedAt: 2025-02-05 17:34:46 -0500 (Wed, 05 Feb 2025) EndedAt: 2025-02-05 17:36:35 -0500 (Wed, 05 Feb 2025) EllapsedTime: 108.1 seconds RetCode: 0 Status: OK PackageFile: GWENA_1.17.0.tar.gz PackageFileSize: 4.79 MiB