Package: GWENA Version: 1.17.0 Command: /Library/Frameworks/R.framework/Resources/bin/R CMD INSTALL GWENA StartedAt: 2025-02-03 15:54:38 -0500 (Mon, 03 Feb 2025) EndedAt: 2025-02-03 15:54:53 -0500 (Mon, 03 Feb 2025) EllapsedTime: 15.2 seconds RetCode: 0 Status: OK