Package: GWENA Version: 1.17.0 Command: /Library/Frameworks/R.framework/Resources/bin/R CMD check --install=check:GWENA.install-out.txt --library=/Library/Frameworks/R.framework/Resources/library --no-vignettes --timings GWENA_1.17.0.tar.gz StartedAt: 2025-02-03 20:11:56 -0500 (Mon, 03 Feb 2025) EndedAt: 2025-02-03 20:16:10 -0500 (Mon, 03 Feb 2025) EllapsedTime: 254.0 seconds RetCode: 0 Status: WARNINGS CheckDir: GWENA.Rcheck Warnings: 2