Package: GWASTools Version: 1.53.0 Command: E:\biocbuild\bbs-3.21-bioc\R\bin\R.exe CMD INSTALL GWASTools StartedAt: 2025-02-16 16:29:36 -0500 (Sun, 16 Feb 2025) EndedAt: 2025-02-16 16:31:18 -0500 (Sun, 16 Feb 2025) EllapsedTime: 102.1 seconds RetCode: 0 Status: OK