Package: GUIDEseq Version: 1.39.0 Command: rm -rf GUIDEseq.buildbin-libdir && mkdir GUIDEseq.buildbin-libdir && F:\biocbuild\bbs-3.22-bioc\R\bin\R.exe CMD INSTALL --build --library=GUIDEseq.buildbin-libdir GUIDEseq_1.39.0.tar.gz StartedAt: 2025-08-15 10:26:26 -0400 (Fri, 15 Aug 2025) EndedAt: 2025-08-15 10:28:09 -0400 (Fri, 15 Aug 2025) EllapsedTime: 102.4 seconds RetCode: 0 Status: OK PackageFile: GUIDEseq_1.39.0.zip PackageFileSize: 6.062 MiB