Package: GUIDEseq Version: 1.39.0 Command: /Library/Frameworks/R.framework/Resources/bin/R CMD build --keep-empty-dirs --no-resave-data GUIDEseq StartedAt: 2025-04-30 16:32:28 -0400 (Wed, 30 Apr 2025) EndedAt: 2025-04-30 16:33:11 -0400 (Wed, 30 Apr 2025) EllapsedTime: 43.5 seconds RetCode: 0 Status: OK PackageFile: GUIDEseq_1.39.0.tar.gz PackageFileSize: 5.868 MiB