Package: GUIDEseq Version: 1.39.0 Maintainer: Lihua Julie Zhu MaintainerEmail: julie.zhu at umassmed.edu git_url: https://git.bioconductor.org/packages/GUIDEseq git_branch: devel git_last_commit: fc7717b git_last_commit_date: 2025-04-15 10:55:54 -0400 (Tue, 15 Apr 2025)