Package: GSgalgoR Version: 1.19.0 Command: chmod a+r GSgalgoR -R && F:\biocbuild\bbs-3.22-bioc\R\bin\R.exe CMD build --keep-empty-dirs --no-resave-data GSgalgoR StartedAt: 2025-08-14 20:40:44 -0400 (Thu, 14 Aug 2025) EndedAt: 2025-08-14 20:42:47 -0400 (Thu, 14 Aug 2025) EllapsedTime: 123.7 seconds RetCode: 0 Status: OK PackageFile: GSgalgoR_1.19.0.tar.gz PackageFileSize: 2.178 MiB