Package: GSReg Version: 1.43.0 Command: /Library/Frameworks/R.framework/Resources/bin/R CMD check --install=check:GSReg.install-out.txt --library=/Library/Frameworks/R.framework/Resources/library --no-vignettes --timings GSReg_1.43.0.tar.gz StartedAt: 2025-05-02 21:04:50 -0400 (Fri, 02 May 2025) EndedAt: 2025-05-02 21:08:01 -0400 (Fri, 02 May 2025) EllapsedTime: 190.9 seconds RetCode: 0 Status: WARNINGS CheckDir: GSReg.Rcheck Warnings: 3