Package: GSReg Version: 1.43.0 Command: /Library/Frameworks/R.framework/Resources/bin/R CMD build --keep-empty-dirs --no-resave-data GSReg StartedAt: 2025-05-02 17:01:17 -0400 (Fri, 02 May 2025) EndedAt: 2025-05-02 17:03:03 -0400 (Fri, 02 May 2025) EllapsedTime: 106.2 seconds RetCode: 0 Status: OK PackageFile: GSReg_1.43.0.tar.gz PackageFileSize: 466.5 KiB