Package: GSReg Version: 1.43.0 Command: rm -rf GSReg.buildbin-libdir && mkdir GSReg.buildbin-libdir && /Users/biocbuild/BBS/utils/build-universal.sh GSReg_1.43.0.tar.gz /Library/Frameworks/R.framework/Resources/bin/R GSReg.buildbin-libdir StartedAt: 2025-05-03 00:46:30 -0400 (Sat, 03 May 2025) EndedAt: 2025-05-03 00:47:30 -0400 (Sat, 03 May 2025) EllapsedTime: 60.2 seconds RetCode: 0 Status: OK PackageFile: GSReg_1.43.0.tgz PackageFileSize: 381.3 KiB