Package: GSReg Version: 1.41.0 Command: /Library/Frameworks/R.framework/Resources/bin/R CMD INSTALL GSReg StartedAt: 2025-02-03 15:49:11 -0500 (Mon, 03 Feb 2025) EndedAt: 2025-02-03 15:49:27 -0500 (Mon, 03 Feb 2025) EllapsedTime: 16.4 seconds RetCode: 0 Status: OK