Package: GSReg Version: 1.43.0 Command: /Library/Frameworks/R.framework/Resources/bin/R CMD build --keep-empty-dirs --no-resave-data GSReg StartedAt: 2025-04-27 16:31:14 -0400 (Sun, 27 Apr 2025) EndedAt: 2025-04-27 16:31:56 -0400 (Sun, 27 Apr 2025) EllapsedTime: 41.5 seconds RetCode: 0 Status: OK PackageFile: GSReg_1.43.0.tar.gz PackageFileSize: 466.5 KiB