Package: GSReg Version: 1.41.0 Command: rm -rf GSReg.buildbin-libdir && mkdir GSReg.buildbin-libdir && /Users/biocbuild/BBS/utils/build-universal.sh GSReg_1.41.0.tar.gz /Library/Frameworks/R.framework/Resources/bin/R GSReg.buildbin-libdir StartedAt: 2025-02-03 22:52:40 -0500 (Mon, 03 Feb 2025) EndedAt: 2025-02-03 22:52:58 -0500 (Mon, 03 Feb 2025) EllapsedTime: 18.3 seconds RetCode: 0 Status: OK PackageFile: GSReg_1.41.0.tgz PackageFileSize: 382.3 KiB