Package: GSRI Version: 2.57.0 Command: /home/biocbuild/bbs-3.22-bioc/R/bin/R CMD build --keep-empty-dirs --no-resave-data --md5 GSRI StartedAt: 2025-09-29 18:18:28 -0400 (Mon, 29 Sep 2025) EndedAt: 2025-09-29 18:19:08 -0400 (Mon, 29 Sep 2025) EllapsedTime: 40.1 seconds RetCode: 0 Status: OK PackageFile: GSRI_2.57.0.tar.gz PackageFileSize: 339.8 KiB