Package: GSEAmining Version: 1.19.0 Command: rm -rf GSEAmining.buildbin-libdir && mkdir GSEAmining.buildbin-libdir && F:\biocbuild\bbs-3.22-bioc\R\bin\R.exe CMD INSTALL --build --library=GSEAmining.buildbin-libdir GSEAmining_1.19.0.tar.gz StartedAt: 2025-08-15 10:26:07 -0400 (Fri, 15 Aug 2025) EndedAt: 2025-08-15 10:26:28 -0400 (Fri, 15 Aug 2025) EllapsedTime: 20.8 seconds RetCode: 0 Status: OK PackageFile: GSEAmining_1.19.0.zip PackageFileSize: 665.9 KiB