Package: GSEAlm Version: 1.67.0 Command: chmod a+r GSEAlm -R && E:\biocbuild\bbs-3.21-bioc\R\bin\R.exe CMD build --keep-empty-dirs --no-resave-data GSEAlm StartedAt: 2025-02-04 19:09:34 -0500 (Tue, 04 Feb 2025) EndedAt: 2025-02-04 19:10:37 -0500 (Tue, 04 Feb 2025) EllapsedTime: 62.8 seconds RetCode: 0 Status: OK PackageFile: GSEAlm_1.67.0.tar.gz PackageFileSize: 946.7 KiB