Package: GSEAlm Version: 1.67.0 Command: /home/biocbuild/bbs-3.21-bioc/R/bin/R CMD build --keep-empty-dirs --no-resave-data GSEAlm StartedAt: 2025-02-03 17:41:00 -0500 (Mon, 03 Feb 2025) EndedAt: 2025-02-03 17:41:43 -0500 (Mon, 03 Feb 2025) EllapsedTime: 43.0 seconds RetCode: 0 Status: OK PackageFile: GSEAlm_1.67.0.tar.gz PackageFileSize: 1.248 MiB