Package: GSEAlm Version: 1.67.0 Command: /Library/Frameworks/R.framework/Resources/bin/R CMD INSTALL GSEAlm StartedAt: 2025-02-03 15:36:25 -0500 (Mon, 03 Feb 2025) EndedAt: 2025-02-03 15:36:27 -0500 (Mon, 03 Feb 2025) EllapsedTime: 2.4 seconds RetCode: 0 Status: OK