Package: GSEAlm Version: 1.69.0 Command: /Library/Frameworks/R.framework/Resources/bin/R CMD build --keep-empty-dirs --no-resave-data GSEAlm StartedAt: 2025-04-27 16:30:57 -0400 (Sun, 27 Apr 2025) EndedAt: 2025-04-27 16:31:17 -0400 (Sun, 27 Apr 2025) EllapsedTime: 20.2 seconds RetCode: 0 Status: OK PackageFile: GSEAlm_1.69.0.tar.gz PackageFileSize: 1.245 MiB