Package: GSEAlm Version: 1.67.0 Command: rm -rf GSEAlm.buildbin-libdir && mkdir GSEAlm.buildbin-libdir && /Users/biocbuild/BBS/utils/build-universal.sh GSEAlm_1.67.0.tar.gz /Library/Frameworks/R.framework/Resources/bin/R GSEAlm.buildbin-libdir StartedAt: 2025-02-03 22:52:39 -0500 (Mon, 03 Feb 2025) EndedAt: 2025-02-03 22:52:41 -0500 (Mon, 03 Feb 2025) EllapsedTime: 2.1 seconds RetCode: 0 Status: OK PackageFile: GSEAlm_1.67.0.tgz PackageFileSize: 1.237 MiB