Package: GSEABenchmarkeR Version: 1.29.1 Command: /home/biocbuild/R/R/bin/R CMD build --keep-empty-dirs --no-resave-data GSEABenchmarkeR StartedAt: 2025-10-03 00:29:42 -0000 (Fri, 03 Oct 2025) EndedAt: 2025-10-03 00:35:46 -0000 (Fri, 03 Oct 2025) EllapsedTime: 364.2 seconds RetCode: 0 Status: OK PackageFile: GSEABenchmarkeR_1.29.1.tar.gz PackageFileSize: 547.1 KiB