Package: GSEABenchmarkeR Version: 1.27.0 Command: /home/biocbuild/R/R/bin/R CMD INSTALL GSEABenchmarkeR StartedAt: 2025-01-29 19:54:39 -0000 (Wed, 29 Jan 2025) EndedAt: 2025-01-29 19:55:08 -0000 (Wed, 29 Jan 2025) EllapsedTime: 28.1 seconds RetCode: 0 Status: OK