Package: GSCA Version: 2.37.0 Command: rm -rf GSCA.buildbin-libdir && mkdir GSCA.buildbin-libdir && /Users/biocbuild/BBS/utils/build-universal.sh GSCA_2.37.0.tar.gz /Library/Frameworks/R.framework/Resources/bin/R GSCA.buildbin-libdir StartedAt: 2025-02-21 00:34:09 -0500 (Fri, 21 Feb 2025) EndedAt: 2025-02-21 00:34:21 -0500 (Fri, 21 Feb 2025) EllapsedTime: 11.6 seconds RetCode: 0 Status: OK PackageFile: GSCA_2.37.0.tgz PackageFileSize: 2.347 MiB