Package: GSCA Version: 2.39.0 Maintainer: Zhicheng Ji MaintainerEmail: zji4 at jhu.edu git_url: https://git.bioconductor.org/packages/GSCA git_branch: devel git_last_commit: 9162e1e git_last_commit_date: 2025-04-15 10:28:52 -0400 (Tue, 15 Apr 2025)