Package: GSAR Version: 1.43.2 Command: chmod a+r GSAR -R && F:\biocbuild\bbs-3.22-bioc\R\bin\R.exe CMD build --keep-empty-dirs --no-resave-data GSAR StartedAt: 2025-08-14 20:39:24 -0400 (Thu, 14 Aug 2025) EndedAt: 2025-08-14 20:45:33 -0400 (Thu, 14 Aug 2025) EllapsedTime: 369.3 seconds RetCode: 0 Status: OK PackageFile: GSAR_1.43.2.tar.gz PackageFileSize: 1.655 MiB