Package: GSAR Version: 1.43.2 Command: /home/biocbuild/bbs-3.22-bioc/R/bin/R CMD INSTALL GSAR StartedAt: 2025-09-29 15:04:42 -0400 (Mon, 29 Sep 2025) EndedAt: 2025-09-29 15:04:48 -0400 (Mon, 29 Sep 2025) EllapsedTime: 6.0 seconds RetCode: 0 Status: OK