Package: GSAR Version: 1.43.2 Command: /home/biocbuild/bbs-3.22-bioc/R/bin/R CMD build --keep-empty-dirs --no-resave-data --md5 GSAR StartedAt: 2025-09-29 18:17:18 -0400 (Mon, 29 Sep 2025) EndedAt: 2025-09-29 18:22:33 -0400 (Mon, 29 Sep 2025) EllapsedTime: 315.4 seconds RetCode: 0 Status: OK PackageFile: GSAR_1.43.2.tar.gz PackageFileSize: 1.779 MiB