Package: GRmetrics Version: 1.35.0 Command: /home/biocbuild/bbs-3.22-bioc/R/bin/R CMD INSTALL GRmetrics StartedAt: 2025-10-09 15:25:56 -0400 (Thu, 09 Oct 2025) EndedAt: 2025-10-09 15:26:16 -0400 (Thu, 09 Oct 2025) EllapsedTime: 20.0 seconds RetCode: 0 Status: OK