Package: GRaNIE Version: 1.13.0 Command: /home/biocbuild/R/R/bin/R CMD build --keep-empty-dirs --no-resave-data GRaNIE StartedAt: 2025-10-03 00:26:13 -0000 (Fri, 03 Oct 2025) EndedAt: 2025-10-03 00:32:25 -0000 (Fri, 03 Oct 2025) EllapsedTime: 372.2 seconds RetCode: 0 Status: OK PackageFile: GRaNIE_1.13.0.tar.gz PackageFileSize: 4.195 MiB