Package: GRaNIE Version: 1.13.0 Command: /home/biocbuild/bbs-3.22-bioc/R/bin/R CMD INSTALL GRaNIE StartedAt: 2025-10-24 15:53:43 -0400 (Fri, 24 Oct 2025) EndedAt: 2025-10-24 15:54:33 -0400 (Fri, 24 Oct 2025) EllapsedTime: 49.8 seconds RetCode: 0 Status: OK