Package: GRENITS Version: 1.61.0 Command: chmod a+r GRENITS -R && F:\biocbuild\bbs-3.22-bioc\R\bin\R.exe CMD build --keep-empty-dirs --no-resave-data GRENITS StartedAt: 2025-08-14 20:38:39 -0400 (Thu, 14 Aug 2025) EndedAt: 2025-08-14 20:40:55 -0400 (Thu, 14 Aug 2025) EllapsedTime: 136.2 seconds RetCode: 0 Status: OK PackageFile: GRENITS_1.61.0.tar.gz PackageFileSize: 151.2 KiB