Package: GRENITS Version: 1.59.0 Command: /home/biocbuild/bbs-3.21-bioc/R/bin/R CMD INSTALL GRENITS StartedAt: 2025-02-14 15:07:20 -0500 (Fri, 14 Feb 2025) EndedAt: 2025-02-14 15:08:36 -0500 (Fri, 14 Feb 2025) EllapsedTime: 75.6 seconds RetCode: 0 Status: OK