Package: GRENITS Version: 1.59.0 Command: /Library/Frameworks/R.framework/Resources/bin/R CMD INSTALL GRENITS StartedAt: 2025-02-16 15:06:21 -0500 (Sun, 16 Feb 2025) EndedAt: 2025-02-16 15:06:44 -0500 (Sun, 16 Feb 2025) EllapsedTime: 22.3 seconds RetCode: 0 Status: OK