Package: GPA Version: 1.21.0 Command: chmod a+r GPA -R && F:\biocbuild\bbs-3.22-bioc\R\bin\R.exe CMD build --keep-empty-dirs --no-resave-data GPA StartedAt: 2025-08-14 20:37:10 -0400 (Thu, 14 Aug 2025) EndedAt: 2025-08-14 20:40:36 -0400 (Thu, 14 Aug 2025) EllapsedTime: 206.2 seconds RetCode: 0 Status: OK PackageFile: GPA_1.21.0.tar.gz PackageFileSize: 185 KiB