Package: GPA Version: 1.19.0 Command: /home/biocbuild/bbs-3.21-bioc/R/bin/R CMD build --keep-empty-dirs --no-resave-data GPA StartedAt: 2025-02-02 17:26:40 -0500 (Sun, 02 Feb 2025) EndedAt: 2025-02-02 17:28:32 -0500 (Sun, 02 Feb 2025) EllapsedTime: 112.1 seconds RetCode: 0 Status: OK PackageFile: GPA_1.19.0.tar.gz PackageFileSize: 311.3 KiB