Package: GOstats Version: 2.75.0 Command: F:\biocbuild\bbs-3.22-bioc\R\bin\R.exe CMD INSTALL GOstats StartedAt: 2025-08-14 16:32:43 -0400 (Thu, 14 Aug 2025) EndedAt: 2025-08-14 16:33:17 -0400 (Thu, 14 Aug 2025) EllapsedTime: 34.0 seconds RetCode: 0 Status: OK