Package: GOstats Version: 2.75.0 Command: chmod a+r GOstats -R && F:\biocbuild\bbs-3.22-bioc\R\bin\R.exe CMD build --keep-empty-dirs --no-resave-data GOstats StartedAt: 2025-08-14 20:36:54 -0400 (Thu, 14 Aug 2025) EndedAt: 2025-08-14 21:16:55 -0400 (Thu, 14 Aug 2025) EllapsedTime: 2401.9 seconds RetCode: None Status: TIMEOUT PackageFile: None PackageFileSize: NA