Package: GOstats Version: 2.73.0 Command: chmod a+r GOstats -R && E:\biocbuild\bbs-3.21-bioc\R\bin\R.exe CMD build --keep-empty-dirs --no-resave-data GOstats StartedAt: 2025-02-05 19:09:07 -0500 (Wed, 05 Feb 2025) EndedAt: 2025-02-05 19:49:08 -0500 (Wed, 05 Feb 2025) EllapsedTime: 2401.7 seconds RetCode: None Status: TIMEOUT PackageFile: None PackageFileSize: NA