Package: GOstats Version: 2.73.0 Command: rm -rf GOstats.buildbin-libdir && mkdir GOstats.buildbin-libdir && E:\biocbuild\bbs-3.21-bioc\R\bin\R.exe CMD INSTALL --build --library=GOstats.buildbin-libdir GOstats_2.73.0.tar.gz StartedAt: 2024-12-28 07:25:45 -0500 (Sat, 28 Dec 2024) EndedAt: 2024-12-28 07:26:24 -0500 (Sat, 28 Dec 2024) EllapsedTime: 39.6 seconds RetCode: 0 Status: OK PackageFile: GOstats_2.73.0.zip PackageFileSize: 1.37 MiB