Package: GOstats Version: 2.73.0 Command: /home/biocbuild/bbs-3.21-bioc/R/bin/R CMD INSTALL GOstats StartedAt: 2025-02-05 15:38:19 -0500 (Wed, 05 Feb 2025) EndedAt: 2025-02-05 15:38:41 -0500 (Wed, 05 Feb 2025) EllapsedTime: 22.2 seconds RetCode: 0 Status: OK