Package: GOstats Version: 2.73.0 Command: /home/biocbuild/bbs-3.21-bioc/R/bin/R CMD check --install=check:GOstats.install-out.txt --library=/home/biocbuild/bbs-3.21-bioc/R/site-library --timings GOstats_2.73.0.tar.gz StartedAt: 2025-02-05 22:53:51 -0500 (Wed, 05 Feb 2025) EndedAt: 2025-02-05 23:28:56 -0500 (Wed, 05 Feb 2025) EllapsedTime: 2105.0 seconds RetCode: 0 Status: OK CheckDir: GOstats.Rcheck Warnings: 0