Package: GOstats Version: 2.73.0 Command: /Library/Frameworks/R.framework/Resources/bin/R CMD check --install=check:GOstats.install-out.txt --library=/Library/Frameworks/R.framework/Resources/library --no-vignettes --timings GOstats_2.73.0.tar.gz StartedAt: 2025-02-03 20:54:50 -0500 (Mon, 03 Feb 2025) EndedAt: 2025-02-03 20:59:16 -0500 (Mon, 03 Feb 2025) EllapsedTime: 265.7 seconds RetCode: 0 Status: OK CheckDir: GOstats.Rcheck Warnings: 0