Package: GOstats Version: 2.73.0 Command: /Library/Frameworks/R.framework/Resources/bin/R CMD build --keep-empty-dirs --no-resave-data GOstats StartedAt: 2025-02-05 16:52:56 -0500 (Wed, 05 Feb 2025) EndedAt: 2025-02-05 17:05:53 -0500 (Wed, 05 Feb 2025) EllapsedTime: 777.5 seconds RetCode: 0 Status: OK PackageFile: GOstats_2.73.0.tar.gz PackageFileSize: 2.895 MiB