Package: GOstats Version: 2.73.0 Command: /home/biocbuild/R/R/bin/R CMD check --install=check:GOstats.install-out.txt --library=/home/biocbuild/R/R/site-library --no-vignettes --timings GOstats_2.73.0.tar.gz StartedAt: 2025-01-28 11:14:29 -0000 (Tue, 28 Jan 2025) EndedAt: 2025-01-28 11:19:24 -0000 (Tue, 28 Jan 2025) EllapsedTime: 294.2 seconds RetCode: 0 Status: OK CheckDir: GOstats.Rcheck Warnings: 0